BEGIN:VCALENDAR
VERSION:2.0
PRODID:-//WelpIcalBundle//Calendar App//NL
CALSCALE:GREGORIAN
METHOD:PUBLISH
BEGIN:VTIMEZONE
TZID:Europe/Amsterdam
BEGIN:STANDARD
DTSTART:19691231T230000
TZOFFSETTO:+0100
TZOFFSETFROM:+0100
END:STANDARD
END:VTIMEZONE
BEGIN:VEVENT
UID:
DTSTART:20251004T093000
DTEND:20251004T170000
STATUS:
SUMMARY:Plantenverfworskhop, therapeutische kwaliteiten van plantenver
 f maken, beleven en toepassen  door Marijke de Vries
DESCRIPTION:<p> .</p>
DTSTAMP:20260421T092754Z
END:VEVENT
END:VCALENDAR
